BEGIN:VCALENDAR
VERSION:2.0
PRODID:-//Ascovabano - ECPv6.14.2//NONSGML v1.0//EN
CALSCALE:GREGORIAN
METHOD:PUBLISH
X-WR-CALNAME:Ascovabano
X-ORIGINAL-URL:https://ascovabano.ch
X-WR-CALDESC:Évènements pour Ascovabano
REFRESH-INTERVAL;VALUE=DURATION:PT1H
X-Robots-Tag:noindex
X-PUBLISHED-TTL:PT1H
BEGIN:VTIMEZONE
TZID:Europe/Zurich
BEGIN:DAYLIGHT
TZOFFSETFROM:+0100
TZOFFSETTO:+0200
TZNAME:CEST
DTSTART:20260329T010000
END:DAYLIGHT
BEGIN:STANDARD
TZOFFSETFROM:+0200
TZOFFSETTO:+0100
TZNAME:CET
DTSTART:20261025T010000
END:STANDARD
END:VTIMEZONE
BEGIN:VEVENT
DTSTART;TZID=Europe/Zurich:20260610T200000
DTEND;TZID=Europe/Zurich:20260610T220000
DTSTAMP:20260419T142901
CREATED:20251121T070059Z
LAST-MODIFIED:20251121T070341Z
UID:31580-1781121600-1781128800@ascovabano.ch
SUMMARY:Séance du Conseil Intercommunal
DESCRIPTION:
URL:https://ascovabano.ch/event/seance-du-conseil-intercommunal-4/
LOCATION:Vallorbe
CATEGORIES:Conseil intercommunal
ORGANIZER;CN="AscoVaBaNo":MAILTO:administration@ascovabano.ch
END:VEVENT
BEGIN:VEVENT
DTSTART;TZID=Europe/Zurich:20260923T200000
DTEND;TZID=Europe/Zurich:20260923T220000
DTSTAMP:20260419T142901
CREATED:20251121T070228Z
LAST-MODIFIED:20251121T070359Z
UID:31582-1790193600-1790200800@ascovabano.ch
SUMMARY:Séance du Conseil Intercommunal
DESCRIPTION:
URL:https://ascovabano.ch/event/seance-du-conseil-intercommunal-5/
LOCATION:Ballaigues
CATEGORIES:Conseil intercommunal
ORGANIZER;CN="AscoVaBaNo":MAILTO:administration@ascovabano.ch
END:VEVENT
END:VCALENDAR